BEGIN:VCALENDAR
VERSION:2.0
PRODID:-//Wilmot &amp; Wellesley Resource Centre - ECPv6.15.20//NONSGML v1.0//EN
CALSCALE:GREGORIAN
METHOD:PUBLISH
X-ORIGINAL-URL:https://wilmotwellesleyrc.ca
X-WR-CALDESC:Events for Wilmot &amp; Wellesley Resource Centre
REFRESH-INTERVAL;VALUE=DURATION:PT1H
X-Robots-Tag:noindex
X-PUBLISHED-TTL:PT1H
BEGIN:VTIMEZONE
TZID:America/Toronto
BEGIN:DAYLIGHT
TZOFFSETFROM:-0500
TZOFFSETTO:-0400
TZNAME:EDT
DTSTART:20260308T070000
END:DAYLIGHT
BEGIN:STANDARD
TZOFFSETFROM:-0400
TZOFFSETTO:-0500
TZNAME:EST
DTSTART:20261101T060000
END:STANDARD
BEGIN:DAYLIGHT
TZOFFSETFROM:-0500
TZOFFSETTO:-0400
TZNAME:EDT
DTSTART:20270314T070000
END:DAYLIGHT
BEGIN:STANDARD
TZOFFSETFROM:-0400
TZOFFSETTO:-0500
TZNAME:EST
DTSTART:20271107T060000
END:STANDARD
BEGIN:DAYLIGHT
TZOFFSETFROM:-0500
TZOFFSETTO:-0400
TZNAME:EDT
DTSTART:20280312T070000
END:DAYLIGHT
BEGIN:STANDARD
TZOFFSETFROM:-0400
TZOFFSETTO:-0500
TZNAME:EST
DTSTART:20281105T060000
END:STANDARD
END:VTIMEZONE
BEGIN:VEVENT
DTSTART;TZID=America/Toronto:20270227T160000
DTEND;TZID=America/Toronto:20270227T190000
DTSTAMP:20260420T152343
CREATED:20250402T193151Z
LAST-MODIFIED:20260223T164251Z
UID:10007984-1803744000-1803754800@wilmotwellesleyrc.ca
SUMMARY:Coldest Night of the Year Fundraiser
DESCRIPTION:The Coldest Night of the Year is a fun\, family-friendly winter walk! The goal is to raise money for local charities serving people experiencing hurt\, hunger\, and homelessness. \n\n\n\nEach year in February\, tens of thousands of Canadians bundle up and head out into the cold\, stepping away from the warmth of home to show love\, support\, and solidarity in their communities. \n\n\n\n100% of net proceeds raised through Coldest Night of the Year stay local\, directly supporting the work of CNOY charity partners – such as Wilmot & Wellesley Resource Centre. \n\n\n\nBy helping to raise funds in Wilmot & Wellesley\, you’ll be contributing much-needed money to WWRC who continue to work to bring hope and help to people in your community who need support. \n\n\n\nContact us to find out how you can volunteer\, raise funds\, become an event sponsor\, and join the community in this great event!
URL:https://wilmotwellesleyrc.ca/calendar/coldest-night-of-the-year-fundraiser/2027-02-27/
LOCATION:Ontario
CATEGORIES:Fundraisers
ATTACH;FMTTYPE=image/png:https://wilmotwellesleyrc.ca/wp-content/uploads/2025/04/Coldest-Night-Logo-Primary-Color-PNG.png
END:VEVENT
END:VCALENDAR