BEGIN:VCALENDAR
VERSION:2.0
PRODID:-//Wilmot &amp; Wellesley Resource Centre - ECPv6.15.20//NONSGML v1.0//EN
CALSCALE:GREGORIAN
METHOD:PUBLISH
X-WR-CALNAME:Wilmot &amp; Wellesley Resource Centre
X-ORIGINAL-URL:https://wilmotwellesleyrc.ca
X-WR-CALDESC:Events for Wilmot &amp; Wellesley Resource Centre
REFRESH-INTERVAL;VALUE=DURATION:PT1H
X-Robots-Tag:noindex
X-PUBLISHED-TTL:PT1H
BEGIN:VTIMEZONE
TZID:America/Toronto
BEGIN:DAYLIGHT
TZOFFSETFROM:-0500
TZOFFSETTO:-0400
TZNAME:EDT
DTSTART:20300310T070000
END:DAYLIGHT
BEGIN:STANDARD
TZOFFSETFROM:-0400
TZOFFSETTO:-0500
TZNAME:EST
DTSTART:20301103T060000
END:STANDARD
BEGIN:DAYLIGHT
TZOFFSETFROM:-0500
TZOFFSETTO:-0400
TZNAME:EDT
DTSTART:20310309T070000
END:DAYLIGHT
BEGIN:STANDARD
TZOFFSETFROM:-0400
TZOFFSETTO:-0500
TZNAME:EST
DTSTART:20311102T060000
END:STANDARD
BEGIN:DAYLIGHT
TZOFFSETFROM:-0500
TZOFFSETTO:-0400
TZNAME:EDT
DTSTART:20320314T070000
END:DAYLIGHT
BEGIN:STANDARD
TZOFFSETFROM:-0400
TZOFFSETTO:-0500
TZNAME:EST
DTSTART:20321107T060000
END:STANDARD
END:VTIMEZONE
BEGIN:VEVENT
DTSTART;TZID=America/Toronto:20310222T160000
DTEND;TZID=America/Toronto:20310222T190000
DTSTAMP:20260420T224511
CREATED:20250402T193151Z
LAST-MODIFIED:20260223T164251Z
UID:10007988-1929542400-1929553200@wilmotwellesleyrc.ca
SUMMARY:Coldest Night of the Year Fundraiser
DESCRIPTION:The Coldest Night of the Year is a fun\, family-friendly winter walk! The goal is to raise money for local charities serving people experiencing hurt\, hunger\, and homelessness. \n\n\n\nEach year in February\, tens of thousands of Canadians bundle up and head out into the cold\, stepping away from the warmth of home to show love\, support\, and solidarity in their communities. \n\n\n\n100% of net proceeds raised through Coldest Night of the Year stay local\, directly supporting the work of CNOY charity partners – such as Wilmot & Wellesley Resource Centre. \n\n\n\nBy helping to raise funds in Wilmot & Wellesley\, you’ll be contributing much-needed money to WWRC who continue to work to bring hope and help to people in your community who need support. \n\n\n\nContact us to find out how you can volunteer\, raise funds\, become an event sponsor\, and join the community in this great event!
URL:https://wilmotwellesleyrc.ca/calendar/coldest-night-of-the-year-fundraiser/2031-02-22/
LOCATION:Ontario
CATEGORIES:Fundraisers
ATTACH;FMTTYPE=image/png:https://wilmotwellesleyrc.ca/wp-content/uploads/2025/04/Coldest-Night-Logo-Primary-Color-PNG.png
END:VEVENT
BEGIN:VEVENT
DTSTART;TZID=America/Toronto:20310303T100000
DTEND;TZID=America/Toronto:20310303T113000
DTSTAMP:20260420T224511
CREATED:20260306T185552Z
LAST-MODIFIED:20260409T172259Z
UID:10008183-1930298400-1930303800@wilmotwellesleyrc.ca
SUMMARY:EarlyON (Wellesley)
DESCRIPTION:For updates on the EarlyON program\, please visit their website: \n\n\n\nhttps://earlyyearsinfo.ca/ \n\n\n\nEarlyON Mobile locations are open to all families in our community. They are a welcoming place that offers a range of services: \n\n\n\n\njoin fun activities – reading\, storytelling\, sing-alongs\, games and more\n\n\n\nget advice from professionals trained in early childhood development\n\n\n\nfind out about other family services in your community\n\n\n\nconnect with other families with young children.\n\n\n\n\nThis program is drop-in!
URL:https://wilmotwellesleyrc.ca/calendar/earlyon-wellesley/2031-03-03/
LOCATION:Wellesley Recreation Complex\, 1401 Queen's Bush Rd\, Wellesley\, Ontario\, N0B 2T0\, Canada
CATEGORIES:Children & Family,Programs
END:VEVENT
BEGIN:VEVENT
DTSTART;TZID=America/Toronto:20310324T100000
DTEND;TZID=America/Toronto:20310324T113000
DTSTAMP:20260420T224511
CREATED:20260306T185552Z
LAST-MODIFIED:20260409T172259Z
UID:10008184-1932112800-1932118200@wilmotwellesleyrc.ca
SUMMARY:EarlyON (Wellesley)
DESCRIPTION:For updates on the EarlyON program\, please visit their website: \n\n\n\nhttps://earlyyearsinfo.ca/ \n\n\n\nEarlyON Mobile locations are open to all families in our community. They are a welcoming place that offers a range of services: \n\n\n\n\njoin fun activities – reading\, storytelling\, sing-alongs\, games and more\n\n\n\nget advice from professionals trained in early childhood development\n\n\n\nfind out about other family services in your community\n\n\n\nconnect with other families with young children.\n\n\n\n\nThis program is drop-in!
URL:https://wilmotwellesleyrc.ca/calendar/earlyon-wellesley/2031-03-24/
LOCATION:Wellesley Recreation Complex\, 1401 Queen's Bush Rd\, Wellesley\, Ontario\, N0B 2T0\, Canada
CATEGORIES:Children & Family,Programs
END:VEVENT
END:VCALENDAR