BEGIN:VCALENDAR
VERSION:2.0
PRODID:-//Wilmot &amp; Wellesley Resource Centre - ECPv6.15.20//NONSGML v1.0//EN
CALSCALE:GREGORIAN
METHOD:PUBLISH
X-WR-CALNAME:Wilmot &amp; Wellesley Resource Centre
X-ORIGINAL-URL:https://wilmotwellesleyrc.ca
X-WR-CALDESC:Events for Wilmot &amp; Wellesley Resource Centre
REFRESH-INTERVAL;VALUE=DURATION:PT1H
X-Robots-Tag:noindex
X-PUBLISHED-TTL:PT1H
BEGIN:VTIMEZONE
TZID:America/Toronto
BEGIN:DAYLIGHT
TZOFFSETFROM:-0500
TZOFFSETTO:-0400
TZNAME:EDT
DTSTART:20230312T070000
END:DAYLIGHT
BEGIN:STANDARD
TZOFFSETFROM:-0400
TZOFFSETTO:-0500
TZNAME:EST
DTSTART:20231105T060000
END:STANDARD
BEGIN:DAYLIGHT
TZOFFSETFROM:-0500
TZOFFSETTO:-0400
TZNAME:EDT
DTSTART:20240310T070000
END:DAYLIGHT
BEGIN:STANDARD
TZOFFSETFROM:-0400
TZOFFSETTO:-0500
TZNAME:EST
DTSTART:20241103T060000
END:STANDARD
BEGIN:DAYLIGHT
TZOFFSETFROM:-0500
TZOFFSETTO:-0400
TZNAME:EDT
DTSTART:20250309T070000
END:DAYLIGHT
BEGIN:STANDARD
TZOFFSETFROM:-0400
TZOFFSETTO:-0500
TZNAME:EST
DTSTART:20251102T060000
END:STANDARD
END:VTIMEZONE
BEGIN:VEVENT
DTSTART;TZID=America/Toronto:20240509T123000
DTEND;TZID=America/Toronto:20240509T143000
DTSTAMP:20260421T231214
CREATED:20240626T154456Z
LAST-MODIFIED:20240626T154458Z
UID:10002726-1715257800-1715265000@wilmotwellesleyrc.ca
SUMMARY:Strong Start – Get Ready for School
DESCRIPTION:WWRC is proud to partner with Strong Start® to offer their Get Ready for School™ program at our location for residents of Wilmot and Wellesley Townships. \n\n\n\nAbout Strong Start to reading™\n\n\n\nStrong Start® Charitable Organization offers a literacy and school readiness program called Get Ready for School™\, which has been specifically designed to help young children prepare for learning Kindergarten. To learn more about Strong Start and upcoming programs\, please visit Strong Start to reading™.
URL:https://wilmotwellesleyrc.ca/calendar/strong-start-get-ready-for-school/2024-05-09/
LOCATION:Wilmot & Wellesley Resource Centre\, 175 Waterloo Street\, Unit 1\, New Hamburg\, Ontario\, N3A 1S3\, Canada
CATEGORIES:Children & Family,Programs
END:VEVENT
BEGIN:VEVENT
DTSTART;TZID=America/Toronto:20240502T123000
DTEND;TZID=America/Toronto:20240502T143000
DTSTAMP:20260421T231214
CREATED:20240626T154456Z
LAST-MODIFIED:20240626T154458Z
UID:10002725-1714653000-1714660200@wilmotwellesleyrc.ca
SUMMARY:Strong Start – Get Ready for School
DESCRIPTION:WWRC is proud to partner with Strong Start® to offer their Get Ready for School™ program at our location for residents of Wilmot and Wellesley Townships. \n\n\n\nAbout Strong Start to reading™\n\n\n\nStrong Start® Charitable Organization offers a literacy and school readiness program called Get Ready for School™\, which has been specifically designed to help young children prepare for learning Kindergarten. To learn more about Strong Start and upcoming programs\, please visit Strong Start to reading™.
URL:https://wilmotwellesleyrc.ca/calendar/strong-start-get-ready-for-school/2024-05-02/
LOCATION:Wilmot & Wellesley Resource Centre\, 175 Waterloo Street\, Unit 1\, New Hamburg\, Ontario\, N3A 1S3\, Canada
CATEGORIES:Children & Family,Programs
END:VEVENT
BEGIN:VEVENT
DTSTART;TZID=America/Toronto:20240425T123000
DTEND;TZID=America/Toronto:20240425T143000
DTSTAMP:20260421T231214
CREATED:20240626T154456Z
LAST-MODIFIED:20240626T154458Z
UID:10002724-1714048200-1714055400@wilmotwellesleyrc.ca
SUMMARY:Strong Start – Get Ready for School
DESCRIPTION:WWRC is proud to partner with Strong Start® to offer their Get Ready for School™ program at our location for residents of Wilmot and Wellesley Townships. \n\n\n\nAbout Strong Start to reading™\n\n\n\nStrong Start® Charitable Organization offers a literacy and school readiness program called Get Ready for School™\, which has been specifically designed to help young children prepare for learning Kindergarten. To learn more about Strong Start and upcoming programs\, please visit Strong Start to reading™.
URL:https://wilmotwellesleyrc.ca/calendar/strong-start-get-ready-for-school/2024-04-25/
LOCATION:Wilmot & Wellesley Resource Centre\, 175 Waterloo Street\, Unit 1\, New Hamburg\, Ontario\, N3A 1S3\, Canada
CATEGORIES:Children & Family,Programs
END:VEVENT
BEGIN:VEVENT
DTSTART;TZID=America/Toronto:20240418T123000
DTEND;TZID=America/Toronto:20240418T143000
DTSTAMP:20260421T231214
CREATED:20240626T154456Z
LAST-MODIFIED:20240626T154458Z
UID:10002723-1713443400-1713450600@wilmotwellesleyrc.ca
SUMMARY:Strong Start – Get Ready for School
DESCRIPTION:WWRC is proud to partner with Strong Start® to offer their Get Ready for School™ program at our location for residents of Wilmot and Wellesley Townships. \n\n\n\nAbout Strong Start to reading™\n\n\n\nStrong Start® Charitable Organization offers a literacy and school readiness program called Get Ready for School™\, which has been specifically designed to help young children prepare for learning Kindergarten. To learn more about Strong Start and upcoming programs\, please visit Strong Start to reading™.
URL:https://wilmotwellesleyrc.ca/calendar/strong-start-get-ready-for-school/2024-04-18/
LOCATION:Wilmot & Wellesley Resource Centre\, 175 Waterloo Street\, Unit 1\, New Hamburg\, Ontario\, N3A 1S3\, Canada
CATEGORIES:Children & Family,Programs
END:VEVENT
BEGIN:VEVENT
DTSTART;TZID=America/Toronto:20240411T123000
DTEND;TZID=America/Toronto:20240411T143000
DTSTAMP:20260421T231214
CREATED:20240626T154456Z
LAST-MODIFIED:20240626T154458Z
UID:10002722-1712838600-1712845800@wilmotwellesleyrc.ca
SUMMARY:Strong Start – Get Ready for School
DESCRIPTION:WWRC is proud to partner with Strong Start® to offer their Get Ready for School™ program at our location for residents of Wilmot and Wellesley Townships. \n\n\n\nAbout Strong Start to reading™\n\n\n\nStrong Start® Charitable Organization offers a literacy and school readiness program called Get Ready for School™\, which has been specifically designed to help young children prepare for learning Kindergarten. To learn more about Strong Start and upcoming programs\, please visit Strong Start to reading™.
URL:https://wilmotwellesleyrc.ca/calendar/strong-start-get-ready-for-school/2024-04-11/
LOCATION:Wilmot & Wellesley Resource Centre\, 175 Waterloo Street\, Unit 1\, New Hamburg\, Ontario\, N3A 1S3\, Canada
CATEGORIES:Children & Family,Programs
END:VEVENT
BEGIN:VEVENT
DTSTART;TZID=America/Toronto:20240404T123000
DTEND;TZID=America/Toronto:20240404T143000
DTSTAMP:20260421T231214
CREATED:20240626T154456Z
LAST-MODIFIED:20240626T154458Z
UID:10002721-1712233800-1712241000@wilmotwellesleyrc.ca
SUMMARY:Strong Start – Get Ready for School
DESCRIPTION:WWRC is proud to partner with Strong Start® to offer their Get Ready for School™ program at our location for residents of Wilmot and Wellesley Townships. \n\n\n\nAbout Strong Start to reading™\n\n\n\nStrong Start® Charitable Organization offers a literacy and school readiness program called Get Ready for School™\, which has been specifically designed to help young children prepare for learning Kindergarten. To learn more about Strong Start and upcoming programs\, please visit Strong Start to reading™.
URL:https://wilmotwellesleyrc.ca/calendar/strong-start-get-ready-for-school/2024-04-04/
LOCATION:Wilmot & Wellesley Resource Centre\, 175 Waterloo Street\, Unit 1\, New Hamburg\, Ontario\, N3A 1S3\, Canada
CATEGORIES:Children & Family,Programs
END:VEVENT
BEGIN:VEVENT
DTSTART;TZID=America/Toronto:20240328T123000
DTEND;TZID=America/Toronto:20240328T143000
DTSTAMP:20260421T231214
CREATED:20240626T154456Z
LAST-MODIFIED:20240626T154458Z
UID:10002720-1711629000-1711636200@wilmotwellesleyrc.ca
SUMMARY:Strong Start – Get Ready for School
DESCRIPTION:WWRC is proud to partner with Strong Start® to offer their Get Ready for School™ program at our location for residents of Wilmot and Wellesley Townships. \n\n\n\nAbout Strong Start to reading™\n\n\n\nStrong Start® Charitable Organization offers a literacy and school readiness program called Get Ready for School™\, which has been specifically designed to help young children prepare for learning Kindergarten. To learn more about Strong Start and upcoming programs\, please visit Strong Start to reading™.
URL:https://wilmotwellesleyrc.ca/calendar/strong-start-get-ready-for-school/2024-03-28/
LOCATION:Wilmot & Wellesley Resource Centre\, 175 Waterloo Street\, Unit 1\, New Hamburg\, Ontario\, N3A 1S3\, Canada
CATEGORIES:Children & Family,Programs
END:VEVENT
BEGIN:VEVENT
DTSTART;TZID=America/Toronto:20240321T123000
DTEND;TZID=America/Toronto:20240321T143000
DTSTAMP:20260421T231214
CREATED:20240626T154456Z
LAST-MODIFIED:20240626T154458Z
UID:10002719-1711024200-1711031400@wilmotwellesleyrc.ca
SUMMARY:Strong Start – Get Ready for School
DESCRIPTION:WWRC is proud to partner with Strong Start® to offer their Get Ready for School™ program at our location for residents of Wilmot and Wellesley Townships. \n\n\n\nAbout Strong Start to reading™\n\n\n\nStrong Start® Charitable Organization offers a literacy and school readiness program called Get Ready for School™\, which has been specifically designed to help young children prepare for learning Kindergarten. To learn more about Strong Start and upcoming programs\, please visit Strong Start to reading™.
URL:https://wilmotwellesleyrc.ca/calendar/strong-start-get-ready-for-school/2024-03-21/
LOCATION:Wilmot & Wellesley Resource Centre\, 175 Waterloo Street\, Unit 1\, New Hamburg\, Ontario\, N3A 1S3\, Canada
CATEGORIES:Children & Family,Programs
END:VEVENT
BEGIN:VEVENT
DTSTART;TZID=America/Toronto:20240314T123000
DTEND;TZID=America/Toronto:20240314T143000
DTSTAMP:20260421T231214
CREATED:20240626T154456Z
LAST-MODIFIED:20240626T154458Z
UID:10002718-1710419400-1710426600@wilmotwellesleyrc.ca
SUMMARY:Strong Start – Get Ready for School
DESCRIPTION:WWRC is proud to partner with Strong Start® to offer their Get Ready for School™ program at our location for residents of Wilmot and Wellesley Townships. \n\n\n\nAbout Strong Start to reading™\n\n\n\nStrong Start® Charitable Organization offers a literacy and school readiness program called Get Ready for School™\, which has been specifically designed to help young children prepare for learning Kindergarten. To learn more about Strong Start and upcoming programs\, please visit Strong Start to reading™.
URL:https://wilmotwellesleyrc.ca/calendar/strong-start-get-ready-for-school/2024-03-14/
LOCATION:Wilmot & Wellesley Resource Centre\, 175 Waterloo Street\, Unit 1\, New Hamburg\, Ontario\, N3A 1S3\, Canada
CATEGORIES:Children & Family,Programs
END:VEVENT
BEGIN:VEVENT
DTSTART;TZID=America/Toronto:20240307T123000
DTEND;TZID=America/Toronto:20240307T143000
DTSTAMP:20260421T231214
CREATED:20240626T154456Z
LAST-MODIFIED:20240626T154458Z
UID:10002717-1709814600-1709821800@wilmotwellesleyrc.ca
SUMMARY:Strong Start – Get Ready for School
DESCRIPTION:WWRC is proud to partner with Strong Start® to offer their Get Ready for School™ program at our location for residents of Wilmot and Wellesley Townships. \n\n\n\nAbout Strong Start to reading™\n\n\n\nStrong Start® Charitable Organization offers a literacy and school readiness program called Get Ready for School™\, which has been specifically designed to help young children prepare for learning Kindergarten. To learn more about Strong Start and upcoming programs\, please visit Strong Start to reading™.
URL:https://wilmotwellesleyrc.ca/calendar/strong-start-get-ready-for-school/2024-03-07/
LOCATION:Wilmot & Wellesley Resource Centre\, 175 Waterloo Street\, Unit 1\, New Hamburg\, Ontario\, N3A 1S3\, Canada
CATEGORIES:Children & Family,Programs
END:VEVENT
BEGIN:VEVENT
DTSTART;TZID=America/Toronto:20240229T123000
DTEND;TZID=America/Toronto:20240229T143000
DTSTAMP:20260421T231214
CREATED:20240626T154456Z
LAST-MODIFIED:20240626T154458Z
UID:10002716-1709209800-1709217000@wilmotwellesleyrc.ca
SUMMARY:Strong Start – Get Ready for School
DESCRIPTION:WWRC is proud to partner with Strong Start® to offer their Get Ready for School™ program at our location for residents of Wilmot and Wellesley Townships. \n\n\n\nAbout Strong Start to reading™\n\n\n\nStrong Start® Charitable Organization offers a literacy and school readiness program called Get Ready for School™\, which has been specifically designed to help young children prepare for learning Kindergarten. To learn more about Strong Start and upcoming programs\, please visit Strong Start to reading™.
URL:https://wilmotwellesleyrc.ca/calendar/strong-start-get-ready-for-school/2024-02-29/
LOCATION:Wilmot & Wellesley Resource Centre\, 175 Waterloo Street\, Unit 1\, New Hamburg\, Ontario\, N3A 1S3\, Canada
CATEGORIES:Children & Family,Programs
END:VEVENT
BEGIN:VEVENT
DTSTART;TZID=America/Toronto:20240222T123000
DTEND;TZID=America/Toronto:20240222T143000
DTSTAMP:20260421T231214
CREATED:20240626T154456Z
LAST-MODIFIED:20240626T154458Z
UID:10002715-1708605000-1708612200@wilmotwellesleyrc.ca
SUMMARY:Strong Start – Get Ready for School
DESCRIPTION:WWRC is proud to partner with Strong Start® to offer their Get Ready for School™ program at our location for residents of Wilmot and Wellesley Townships. \n\n\n\nAbout Strong Start to reading™\n\n\n\nStrong Start® Charitable Organization offers a literacy and school readiness program called Get Ready for School™\, which has been specifically designed to help young children prepare for learning Kindergarten. To learn more about Strong Start and upcoming programs\, please visit Strong Start to reading™.
URL:https://wilmotwellesleyrc.ca/calendar/strong-start-get-ready-for-school/2024-02-22/
LOCATION:Wilmot & Wellesley Resource Centre\, 175 Waterloo Street\, Unit 1\, New Hamburg\, Ontario\, N3A 1S3\, Canada
CATEGORIES:Children & Family,Programs
END:VEVENT
BEGIN:VEVENT
DTSTART;TZID=America/Toronto:20240215T123000
DTEND;TZID=America/Toronto:20240215T143000
DTSTAMP:20260421T231214
CREATED:20240626T154456Z
LAST-MODIFIED:20240626T154458Z
UID:10002714-1708000200-1708007400@wilmotwellesleyrc.ca
SUMMARY:Strong Start – Get Ready for School
DESCRIPTION:WWRC is proud to partner with Strong Start® to offer their Get Ready for School™ program at our location for residents of Wilmot and Wellesley Townships. \n\n\n\nAbout Strong Start to reading™\n\n\n\nStrong Start® Charitable Organization offers a literacy and school readiness program called Get Ready for School™\, which has been specifically designed to help young children prepare for learning Kindergarten. To learn more about Strong Start and upcoming programs\, please visit Strong Start to reading™.
URL:https://wilmotwellesleyrc.ca/calendar/strong-start-get-ready-for-school/2024-02-15/
LOCATION:Wilmot & Wellesley Resource Centre\, 175 Waterloo Street\, Unit 1\, New Hamburg\, Ontario\, N3A 1S3\, Canada
CATEGORIES:Children & Family,Programs
END:VEVENT
BEGIN:VEVENT
DTSTART;TZID=America/Toronto:20240208T123000
DTEND;TZID=America/Toronto:20240208T143000
DTSTAMP:20260421T231214
CREATED:20240626T154456Z
LAST-MODIFIED:20240626T154458Z
UID:10002713-1707395400-1707402600@wilmotwellesleyrc.ca
SUMMARY:Strong Start – Get Ready for School
DESCRIPTION:WWRC is proud to partner with Strong Start® to offer their Get Ready for School™ program at our location for residents of Wilmot and Wellesley Townships. \n\n\n\nAbout Strong Start to reading™\n\n\n\nStrong Start® Charitable Organization offers a literacy and school readiness program called Get Ready for School™\, which has been specifically designed to help young children prepare for learning Kindergarten. To learn more about Strong Start and upcoming programs\, please visit Strong Start to reading™.
URL:https://wilmotwellesleyrc.ca/calendar/strong-start-get-ready-for-school/2024-02-08/
LOCATION:Wilmot & Wellesley Resource Centre\, 175 Waterloo Street\, Unit 1\, New Hamburg\, Ontario\, N3A 1S3\, Canada
CATEGORIES:Children & Family,Programs
END:VEVENT
BEGIN:VEVENT
DTSTART;TZID=America/Toronto:20240201T123000
DTEND;TZID=America/Toronto:20240201T143000
DTSTAMP:20260421T231214
CREATED:20240626T154456Z
LAST-MODIFIED:20240626T154458Z
UID:10002712-1706790600-1706797800@wilmotwellesleyrc.ca
SUMMARY:Strong Start – Get Ready for School
DESCRIPTION:WWRC is proud to partner with Strong Start® to offer their Get Ready for School™ program at our location for residents of Wilmot and Wellesley Townships. \n\n\n\nAbout Strong Start to reading™\n\n\n\nStrong Start® Charitable Organization offers a literacy and school readiness program called Get Ready for School™\, which has been specifically designed to help young children prepare for learning Kindergarten. To learn more about Strong Start and upcoming programs\, please visit Strong Start to reading™.
URL:https://wilmotwellesleyrc.ca/calendar/strong-start-get-ready-for-school/2024-02-01/
LOCATION:Wilmot & Wellesley Resource Centre\, 175 Waterloo Street\, Unit 1\, New Hamburg\, Ontario\, N3A 1S3\, Canada
CATEGORIES:Children & Family,Programs
END:VEVENT
BEGIN:VEVENT
DTSTART;TZID=America/Toronto:20240125T123000
DTEND;TZID=America/Toronto:20240125T143000
DTSTAMP:20260421T231214
CREATED:20240626T154456Z
LAST-MODIFIED:20240626T154458Z
UID:10002711-1706185800-1706193000@wilmotwellesleyrc.ca
SUMMARY:Strong Start – Get Ready for School
DESCRIPTION:WWRC is proud to partner with Strong Start® to offer their Get Ready for School™ program at our location for residents of Wilmot and Wellesley Townships. \n\n\n\nAbout Strong Start to reading™\n\n\n\nStrong Start® Charitable Organization offers a literacy and school readiness program called Get Ready for School™\, which has been specifically designed to help young children prepare for learning Kindergarten. To learn more about Strong Start and upcoming programs\, please visit Strong Start to reading™.
URL:https://wilmotwellesleyrc.ca/calendar/strong-start-get-ready-for-school/2024-01-25/
LOCATION:Wilmot & Wellesley Resource Centre\, 175 Waterloo Street\, Unit 1\, New Hamburg\, Ontario\, N3A 1S3\, Canada
CATEGORIES:Children & Family,Programs
END:VEVENT
BEGIN:VEVENT
DTSTART;TZID=America/Toronto:20240118T123000
DTEND;TZID=America/Toronto:20240118T143000
DTSTAMP:20260421T231214
CREATED:20240626T154456Z
LAST-MODIFIED:20240626T154458Z
UID:10002710-1705581000-1705588200@wilmotwellesleyrc.ca
SUMMARY:Strong Start – Get Ready for School
DESCRIPTION:WWRC is proud to partner with Strong Start® to offer their Get Ready for School™ program at our location for residents of Wilmot and Wellesley Townships. \n\n\n\nAbout Strong Start to reading™\n\n\n\nStrong Start® Charitable Organization offers a literacy and school readiness program called Get Ready for School™\, which has been specifically designed to help young children prepare for learning Kindergarten. To learn more about Strong Start and upcoming programs\, please visit Strong Start to reading™.
URL:https://wilmotwellesleyrc.ca/calendar/strong-start-get-ready-for-school/2024-01-18/
LOCATION:Wilmot & Wellesley Resource Centre\, 175 Waterloo Street\, Unit 1\, New Hamburg\, Ontario\, N3A 1S3\, Canada
CATEGORIES:Children & Family,Programs
END:VEVENT
END:VCALENDAR