BEGIN:VCALENDAR
VERSION:2.0
PRODID:-//Wilmot &amp; Wellesley Resource Centre - ECPv6.15.20//NONSGML v1.0//EN
CALSCALE:GREGORIAN
METHOD:PUBLISH
X-WR-CALNAME:Wilmot &amp; Wellesley Resource Centre
X-ORIGINAL-URL:https://wilmotwellesleyrc.ca
X-WR-CALDESC:Events for Wilmot &amp; Wellesley Resource Centre
REFRESH-INTERVAL;VALUE=DURATION:PT1H
X-Robots-Tag:noindex
X-PUBLISHED-TTL:PT1H
BEGIN:VTIMEZONE
TZID:America/Toronto
BEGIN:DAYLIGHT
TZOFFSETFROM:-0500
TZOFFSETTO:-0400
TZNAME:EDT
DTSTART:20230312T070000
END:DAYLIGHT
BEGIN:STANDARD
TZOFFSETFROM:-0400
TZOFFSETTO:-0500
TZNAME:EST
DTSTART:20231105T060000
END:STANDARD
BEGIN:DAYLIGHT
TZOFFSETFROM:-0500
TZOFFSETTO:-0400
TZNAME:EDT
DTSTART:20240310T070000
END:DAYLIGHT
BEGIN:STANDARD
TZOFFSETFROM:-0400
TZOFFSETTO:-0500
TZNAME:EST
DTSTART:20241103T060000
END:STANDARD
BEGIN:DAYLIGHT
TZOFFSETFROM:-0500
TZOFFSETTO:-0400
TZNAME:EDT
DTSTART:20250309T070000
END:DAYLIGHT
BEGIN:STANDARD
TZOFFSETFROM:-0400
TZOFFSETTO:-0500
TZNAME:EST
DTSTART:20251102T060000
END:STANDARD
END:VTIMEZONE
BEGIN:VEVENT
DTSTART;TZID=America/Toronto:20240215T123000
DTEND;TZID=America/Toronto:20240215T143000
DTSTAMP:20260422T002811
CREATED:20240626T154456Z
LAST-MODIFIED:20240626T154458Z
UID:10002714-1708000200-1708007400@wilmotwellesleyrc.ca
SUMMARY:Strong Start – Get Ready for School
DESCRIPTION:WWRC is proud to partner with Strong Start® to offer their Get Ready for School™ program at our location for residents of Wilmot and Wellesley Townships. \n\n\n\nAbout Strong Start to reading™\n\n\n\nStrong Start® Charitable Organization offers a literacy and school readiness program called Get Ready for School™\, which has been specifically designed to help young children prepare for learning Kindergarten. To learn more about Strong Start and upcoming programs\, please visit Strong Start to reading™.
URL:https://wilmotwellesleyrc.ca/calendar/strong-start-get-ready-for-school/2024-02-15/
LOCATION:Wilmot & Wellesley Resource Centre\, 175 Waterloo Street\, Unit 1\, New Hamburg\, Ontario\, N3A 1S3\, Canada
CATEGORIES:Children & Family,Programs
END:VEVENT
BEGIN:VEVENT
DTSTART;TZID=America/Toronto:20240208T123000
DTEND;TZID=America/Toronto:20240208T143000
DTSTAMP:20260422T002811
CREATED:20240626T154456Z
LAST-MODIFIED:20240626T154458Z
UID:10002713-1707395400-1707402600@wilmotwellesleyrc.ca
SUMMARY:Strong Start – Get Ready for School
DESCRIPTION:WWRC is proud to partner with Strong Start® to offer their Get Ready for School™ program at our location for residents of Wilmot and Wellesley Townships. \n\n\n\nAbout Strong Start to reading™\n\n\n\nStrong Start® Charitable Organization offers a literacy and school readiness program called Get Ready for School™\, which has been specifically designed to help young children prepare for learning Kindergarten. To learn more about Strong Start and upcoming programs\, please visit Strong Start to reading™.
URL:https://wilmotwellesleyrc.ca/calendar/strong-start-get-ready-for-school/2024-02-08/
LOCATION:Wilmot & Wellesley Resource Centre\, 175 Waterloo Street\, Unit 1\, New Hamburg\, Ontario\, N3A 1S3\, Canada
CATEGORIES:Children & Family,Programs
END:VEVENT
BEGIN:VEVENT
DTSTART;TZID=America/Toronto:20240201T123000
DTEND;TZID=America/Toronto:20240201T143000
DTSTAMP:20260422T002811
CREATED:20240626T154456Z
LAST-MODIFIED:20240626T154458Z
UID:10002712-1706790600-1706797800@wilmotwellesleyrc.ca
SUMMARY:Strong Start – Get Ready for School
DESCRIPTION:WWRC is proud to partner with Strong Start® to offer their Get Ready for School™ program at our location for residents of Wilmot and Wellesley Townships. \n\n\n\nAbout Strong Start to reading™\n\n\n\nStrong Start® Charitable Organization offers a literacy and school readiness program called Get Ready for School™\, which has been specifically designed to help young children prepare for learning Kindergarten. To learn more about Strong Start and upcoming programs\, please visit Strong Start to reading™.
URL:https://wilmotwellesleyrc.ca/calendar/strong-start-get-ready-for-school/2024-02-01/
LOCATION:Wilmot & Wellesley Resource Centre\, 175 Waterloo Street\, Unit 1\, New Hamburg\, Ontario\, N3A 1S3\, Canada
CATEGORIES:Children & Family,Programs
END:VEVENT
BEGIN:VEVENT
DTSTART;TZID=America/Toronto:20240125T123000
DTEND;TZID=America/Toronto:20240125T143000
DTSTAMP:20260422T002811
CREATED:20240626T154456Z
LAST-MODIFIED:20240626T154458Z
UID:10002711-1706185800-1706193000@wilmotwellesleyrc.ca
SUMMARY:Strong Start – Get Ready for School
DESCRIPTION:WWRC is proud to partner with Strong Start® to offer their Get Ready for School™ program at our location for residents of Wilmot and Wellesley Townships. \n\n\n\nAbout Strong Start to reading™\n\n\n\nStrong Start® Charitable Organization offers a literacy and school readiness program called Get Ready for School™\, which has been specifically designed to help young children prepare for learning Kindergarten. To learn more about Strong Start and upcoming programs\, please visit Strong Start to reading™.
URL:https://wilmotwellesleyrc.ca/calendar/strong-start-get-ready-for-school/2024-01-25/
LOCATION:Wilmot & Wellesley Resource Centre\, 175 Waterloo Street\, Unit 1\, New Hamburg\, Ontario\, N3A 1S3\, Canada
CATEGORIES:Children & Family,Programs
END:VEVENT
BEGIN:VEVENT
DTSTART;TZID=America/Toronto:20240118T123000
DTEND;TZID=America/Toronto:20240118T143000
DTSTAMP:20260422T002811
CREATED:20240626T154456Z
LAST-MODIFIED:20240626T154458Z
UID:10002710-1705581000-1705588200@wilmotwellesleyrc.ca
SUMMARY:Strong Start – Get Ready for School
DESCRIPTION:WWRC is proud to partner with Strong Start® to offer their Get Ready for School™ program at our location for residents of Wilmot and Wellesley Townships. \n\n\n\nAbout Strong Start to reading™\n\n\n\nStrong Start® Charitable Organization offers a literacy and school readiness program called Get Ready for School™\, which has been specifically designed to help young children prepare for learning Kindergarten. To learn more about Strong Start and upcoming programs\, please visit Strong Start to reading™.
URL:https://wilmotwellesleyrc.ca/calendar/strong-start-get-ready-for-school/2024-01-18/
LOCATION:Wilmot & Wellesley Resource Centre\, 175 Waterloo Street\, Unit 1\, New Hamburg\, Ontario\, N3A 1S3\, Canada
CATEGORIES:Children & Family,Programs
END:VEVENT
END:VCALENDAR